BEGIN:VCALENDAR
VERSION:2.0
PRODID:-//Illinois Peace Project - ECPv6.15.17.1//NONSGML v1.0//EN
CALSCALE:GREGORIAN
METHOD:PUBLISH
X-ORIGINAL-URL:https://illinoispeaceproject.org
X-WR-CALDESC:Events for Illinois Peace Project
REFRESH-INTERVAL;VALUE=DURATION:PT1H
X-Robots-Tag:noindex
X-PUBLISHED-TTL:PT1H
BEGIN:VTIMEZONE
TZID:UTC
BEGIN:STANDARD
TZOFFSETFROM:+0000
TZOFFSETTO:+0000
TZNAME:UTC
DTSTART:20250101T000000
END:STANDARD
END:VTIMEZONE
BEGIN:VEVENT
DTSTART;TZID=UTC:20260325T080000
DTEND;TZID=UTC:20260325T170000
DTSTAMP:20260424T142335
CREATED:20260325T154249Z
LAST-MODIFIED:20260325T154249Z
UID:28365-1774425600-1774458000@illinoispeaceproject.org
SUMMARY:Women's History Month Movie Night
DESCRIPTION:This Women’s History Month event is on learning the powerful story of Henrietta Lacks\, the woman whose cells transformed science and medicine\, saving millions of lives. Our special guest speaker is Alfred Lacks Carter Jr. The film will be “The Immortal Life of Henrietta Lacks.” Refreshments will be served.
URL:https://illinoispeaceproject.org/event/womens-history-month-movie-night/
LOCATION:Project H.O.O.D.\, 6620 S. King Dr\, Chicago\, IL\, 60637\, United States
ATTACH;FMTTYPE=image/png:https://illinoispeaceproject.org/wp-content/uploads/2023/02/logo-project-hood_black.png
END:VEVENT
BEGIN:VEVENT
DTSTART;TZID=UTC:20260325T160000
DTEND;TZID=UTC:20260325T183000
DTSTAMP:20260424T142335
CREATED:20260325T152137Z
LAST-MODIFIED:20260325T152137Z
UID:28351-1774454400-1774463400@illinoispeaceproject.org
SUMMARY:Movie at the Park
DESCRIPTION:Family movie viewing with food. Free for all!
URL:https://illinoispeaceproject.org/event/movie-at-the-park/
LOCATION:Cornell Square Park\, 1809 W 50th St\, Chicago\, IL\, 60609\, United States
ATTACH;FMTTYPE=image/png:https://illinoispeaceproject.org/wp-content/uploads/2023/02/PBMR-logo-block-web-480w.png
ORGANIZER;CN="Precious Blood Ministry of Reconciliation":MAILTO:info@pbmr.org
END:VEVENT
BEGIN:VEVENT
DTSTART;TZID=UTC:20260326T160000
DTEND;TZID=UTC:20260326T180000
DTSTAMP:20260424T142335
CREATED:20260325T152954Z
LAST-MODIFIED:20260325T152954Z
UID:28355-1774540800-1774548000@illinoispeaceproject.org
SUMMARY:WGF Light in the Night Event
DESCRIPTION:Food\, games\, music\, fun\, and more!
URL:https://illinoispeaceproject.org/event/wgf-light-in-the-night-event/
LOCATION:219 N Kolmar Ave\, 219 N Kolmar Ave\, Chicago\, IL\, 60624\, United States
ATTACH;FMTTYPE=image/png:https://illinoispeaceproject.org/wp-content/uploads/2023/02/Logo-Nonviolence-scaled.png
ORGANIZER;CN="Institute for Nonviolence Chicago":MAILTO:info@nonviolencechicago.org
END:VEVENT
BEGIN:VEVENT
DTSTART;TZID=UTC:20260326T160000
DTEND;TZID=UTC:20260326T180000
DTSTAMP:20260424T142335
CREATED:20260325T153335Z
LAST-MODIFIED:20260325T153434Z
UID:28358-1774540800-1774548000@illinoispeaceproject.org
SUMMARY:INVC Light in the Night
DESCRIPTION:Food\, games\, music\, face painting\, and more.
URL:https://illinoispeaceproject.org/event/invc-light-in-the-night-7/
LOCATION:Madison & Lotus\, S Lotus Ave & W Madison St\, Chicago\, IL\, 60644\, United States
ATTACH;FMTTYPE=image/png:https://illinoispeaceproject.org/wp-content/uploads/2023/02/Logo-Nonviolence-scaled.png
ORGANIZER;CN="Institute for Nonviolence Chicago":MAILTO:info@nonviolencechicago.org
END:VEVENT
BEGIN:VEVENT
DTSTART;TZID=UTC:20260327T160000
DTEND;TZID=UTC:20260327T180000
DTSTAMP:20260424T142335
CREATED:20260325T153730Z
LAST-MODIFIED:20260325T153730Z
UID:28362-1774627200-1774634400@illinoispeaceproject.org
SUMMARY:Claretian Associates Light in the Night
DESCRIPTION:Resource table\, food\, games\, music\, and a toy giveaway.
URL:https://illinoispeaceproject.org/event/claretian-associates-light-in-the-night-3/
LOCATION:7500 S Phillips Ave\, 7500 S Phillips Ave\, Chicago\, IL\, 60617\, United States
ATTACH;FMTTYPE=image/png:https://illinoispeaceproject.org/wp-content/uploads/2025/05/ca-logo-no-background_orig.png
ORGANIZER;CN="Claretian Associates":MAILTO:brendat@claretianassociates.org
END:VEVENT
BEGIN:VEVENT
DTSTART;TZID=UTC:20260327T170000
DTEND;TZID=UTC:20260327T210000
DTSTAMP:20260424T142335
CREATED:20260325T154615Z
LAST-MODIFIED:20260325T154615Z
UID:28368-1774630800-1774645200@illinoispeaceproject.org
SUMMARY:Think Outside Da Block Presents: "Play N Peace"
DESCRIPTION:Join us for a fun-filled Hip Hop & R&B Bingo Night where music\, culture\, and community come together! Instead of numbers\, players will mark off iconic songs and artists from your favorite throwback and current hits. Sing along\, vibe out\, and compete for exciting prizes while celebrating the sounds that shaped generations. This family-friendly community event is all about connection\, good energy\, and great music.
URL:https://illinoispeaceproject.org/event/think-outside-da-block-presents-play-n-peace/
LOCATION:Kelly Branch Library\, 6151 S Normal Blvd\, Chicago\, IL\, 60636\, United States
ATTACH;FMTTYPE=image/png:https://illinoispeaceproject.org/wp-content/uploads/2025/05/todb.png
ORGANIZER;CN="Think Outside Da Block":MAILTO:info@thinkoutsidedablock.org
END:VEVENT
END:VCALENDAR