BEGIN:VCALENDAR
VERSION:2.0
PRODID:-//Illinois Peace Project - ECPv6.15.17.1//NONSGML v1.0//EN
CALSCALE:GREGORIAN
METHOD:PUBLISH
X-WR-CALNAME:Illinois Peace Project
X-ORIGINAL-URL:https://illinoispeaceproject.org
X-WR-CALDESC:Events for Illinois Peace Project
REFRESH-INTERVAL;VALUE=DURATION:PT1H
X-Robots-Tag:noindex
X-PUBLISHED-TTL:PT1H
BEGIN:VTIMEZONE
TZID:UTC
BEGIN:STANDARD
TZOFFSETFROM:+0000
TZOFFSETTO:+0000
TZNAME:UTC
DTSTART:20240101T000000
END:STANDARD
END:VTIMEZONE
BEGIN:VEVENT
DTSTART;TZID=UTC:20250821T150000
DTEND;TZID=UTC:20250821T190000
DTSTAMP:20260425T122802
CREATED:20250817T150954Z
LAST-MODIFIED:20250817T151334Z
UID:27274-1755788400-1755802800@illinoispeaceproject.org
SUMMARY:Back to School Event
DESCRIPTION:Families are invited to this fun event celebrating back to school! We will have bookbag giveaways with school supplies\, games\, music\, food\, and drinks. All items are first come\, first served. \nNeighborhood: Uptown\nPolice District: 19th District\nSub CBO: ONE Northside\nContact: Zerell Davis\nContact Number: 773-355-1069
URL:https://illinoispeaceproject.org/event/back-to-school-event/
LOCATION:Argyle and Winthrop\, 1068 W Argyle St\, Chicago\, IL\, 60640\, United States
ATTACH;FMTTYPE=image/jpeg:https://illinoispeaceproject.org/wp-content/uploads/2023/02/ONE-Northside-logo_social_round_007.jpg
END:VEVENT
BEGIN:VEVENT
DTSTART;TZID=UTC:20250821T120000
DTEND;TZID=UTC:20250821T170000
DTSTAMP:20260425T122802
CREATED:20250820T161425Z
LAST-MODIFIED:20250820T161726Z
UID:27401-1755777600-1755795600@illinoispeaceproject.org
SUMMARY:Chicago CRED's 9th Annual High School Graduation Ceremony
DESCRIPTION:Chicago CRED will hold its ninth annual high school graduation for participants in the community violence intervention organization at a lively and joy-filled ceremony with family members\, life coaches\, outreach workers and other supporters. The graduates are young people at high risk of shooting or being who\, with CRED’s support\, returned to school and earned high school degrees through online education provider Penn Foster. A number of other participants and staff will also be recognized for their educational achievements\, including several that have gone on to college.
URL:https://illinoispeaceproject.org/event/chicago-creds-9th-annual-high-school-graduation-ceremony/
LOCATION:South Shore Cultural Center\, 7059 S South Shore Dr\, Chicago\, IL\, 60649\, United States
ATTACH;FMTTYPE=image/png:https://illinoispeaceproject.org/wp-content/uploads/2025/08/chicago-cred-logo.png
ORGANIZER;CN="Chicago CRED":MAILTO:jamel@chicagocred.com
END:VEVENT
BEGIN:VEVENT
DTSTART;TZID=UTC:20250820T170000
DTEND;TZID=UTC:20250820T210000
DTSTAMP:20260425T122802
CREATED:20250817T145532Z
LAST-MODIFIED:20250817T145758Z
UID:27267-1755709200-1755723600@illinoispeaceproject.org
SUMMARY:Community Block Club Party
DESCRIPTION:Come join us as we bring safety back to the block! We will have free food\, bounce house\, games\, and music for family and friends to enjoy. \nNeighborhood: East Garfield Park\nPolice District: 11th District\nSub CBO: Breakthrough Urban Ministries\nContact: Danielle Peterson\nContact Number: 773-726-9659
URL:https://illinoispeaceproject.org/event/community-block-club-party/
LOCATION:California & Flournoy Basketball Court\, 703 S California Ave\, Chicago\, IL\, 60612\, United States
ATTACH;FMTTYPE=image/png:https://illinoispeaceproject.org/wp-content/uploads/2023/10/Breakthrough.png
ORGANIZER;CN="Breakthrough Urban Ministries":MAILTO:info@breakthrough.org
END:VEVENT
BEGIN:VEVENT
DTSTART;TZID=UTC:20250819T150000
DTEND;TZID=UTC:20250819T200000
DTSTAMP:20260425T122802
CREATED:20250817T145054Z
LAST-MODIFIED:20250817T145803Z
UID:27263-1755615600-1755633600@illinoispeaceproject.org
SUMMARY:Summer Soccer
DESCRIPTION:Copa La Villita is designed to bring out community members of target ages to engage in sports every Tuesday. Food and drinks are provided at the event. \nNeighborhood: Little Village\nPolice District: 10th District\nSub CBO: New Life Centers\nContact: Epi Diaz\nContact Number: 773-412-0283
URL:https://illinoispeaceproject.org/event/summer-soccer/
LOCATION:Little Village Academy\, 2620 S Lawndale Ave\, Chicago\, IL\, 60623\, United States
ATTACH;FMTTYPE=image/png:https://illinoispeaceproject.org/wp-content/uploads/2025/05/NewLifeCenters-rgb-green-primary.png
ORGANIZER;CN="New Life Centers":MAILTO:info@newlifecenters.org
END:VEVENT
BEGIN:VEVENT
DTSTART;TZID=UTC:20250818T173000
DTEND;TZID=UTC:20250818T203000
DTSTAMP:20260425T122802
CREATED:20250817T000042Z
LAST-MODIFIED:20250817T145807Z
UID:27255-1755538200-1755549000@illinoispeaceproject.org
SUMMARY:Summer Softball
DESCRIPTION:Little Village Summer Softball is designed to bring out community members of target ages to engage in sports and fun activities every Monday. Food and drinks are provided at the event. \nNeighborhood: Little Village\nPolice District: 10th District\nSub CBO: New Life Centers\nContact: Epi Diaz\nContact Number: 773-412-0283
URL:https://illinoispeaceproject.org/event/summer-softball/
LOCATION:Piotrowski Park\, 4247 W 31st St\, Chicago\, IL\, 60623\, United States
ATTACH;FMTTYPE=image/png:https://illinoispeaceproject.org/wp-content/uploads/2025/05/NewLifeCenters-rgb-green-primary.png
ORGANIZER;CN="New Life Centers":MAILTO:info@newlifecenters.org
END:VEVENT
END:VCALENDAR