BEGIN:VCALENDAR
VERSION:2.0
PRODID:-//Illinois Peace Project - ECPv6.15.17.1//NONSGML v1.0//EN
CALSCALE:GREGORIAN
METHOD:PUBLISH
X-WR-CALNAME:Illinois Peace Project
X-ORIGINAL-URL:https://illinoispeaceproject.org
X-WR-CALDESC:Events for Illinois Peace Project
REFRESH-INTERVAL;VALUE=DURATION:PT1H
X-Robots-Tag:noindex
X-PUBLISHED-TTL:PT1H
BEGIN:VTIMEZONE
TZID:UTC
BEGIN:STANDARD
TZOFFSETFROM:+0000
TZOFFSETTO:+0000
TZNAME:UTC
DTSTART:20250101T000000
END:STANDARD
END:VTIMEZONE
BEGIN:VEVENT
DTSTART;TZID=UTC:20260613T110000
DTEND;TZID=UTC:20260613T150000
DTSTAMP:20260425T135008
CREATED:20260420T151155Z
LAST-MODIFIED:20260420T151155Z
UID:28462-1781348400-1781362800@illinoispeaceproject.org
SUMMARY:Community Paddling Day
DESCRIPTION:Always wanted to try paddling? Join Chicago Adventure Therapy and the Forest Preserves of Cook County at Beaubien Celebration Day and hop in a canoe with their paddling guides! All paddling equipment and clothing will be provided. No experience necessary.
URL:https://illinoispeaceproject.org/event/community-paddling-day/
LOCATION:Beaubien Woods Boat Launch\, E 132nd St\, east of S Greenwood Ave\, Chicago\, IL\, 60827\, United States
ATTACH;FMTTYPE=image/png:https://illinoispeaceproject.org/wp-content/uploads/2026/04/chicago-adventure-therapy-logo.png
ORGANIZER;CN="Chicago Adventure Therapy":MAILTO:info@chicagoadventuretherapy.org
END:VEVENT
BEGIN:VEVENT
DTSTART;TZID=UTC:20260627T100000
DTEND;TZID=UTC:20260627T130000
DTSTAMP:20260425T135008
CREATED:20260420T151617Z
LAST-MODIFIED:20260420T151943Z
UID:28467-1782554400-1782565200@illinoispeaceproject.org
SUMMARY:Community Climbing Day
DESCRIPTION:Always wanted to try rock climbing? Join Chicago Adventure Therapy and the Chicago Park District at Steelworkers Park Climbing Wall for a free adventure! All climbing equipment and instruction will be provided. No experience necessary.
URL:https://illinoispeaceproject.org/event/__trashed/
LOCATION:Steelworkers Park Climbing Wall\, at Lake Michigan\, E 87th St\, Chicago\, IL\, 60617\, United States
ATTACH;FMTTYPE=image/png:https://illinoispeaceproject.org/wp-content/uploads/2026/04/chicago-adventure-therapy-logo.png
ORGANIZER;CN="Chicago Adventure Therapy":MAILTO:info@chicagoadventuretherapy.org
END:VEVENT
END:VCALENDAR