BEGIN:VCALENDAR
VERSION:2.0
PRODID:-//Illinois Peace Project - ECPv6.15.17.1//NONSGML v1.0//EN
CALSCALE:GREGORIAN
METHOD:PUBLISH
X-WR-CALNAME:Illinois Peace Project
X-ORIGINAL-URL:https://illinoispeaceproject.org
X-WR-CALDESC:Events for Illinois Peace Project
REFRESH-INTERVAL;VALUE=DURATION:PT1H
X-Robots-Tag:noindex
X-PUBLISHED-TTL:PT1H
BEGIN:VTIMEZONE
TZID:UTC
BEGIN:STANDARD
TZOFFSETFROM:+0000
TZOFFSETTO:+0000
TZNAME:UTC
DTSTART:20240101T000000
END:STANDARD
END:VTIMEZONE
BEGIN:VEVENT
DTSTART;TZID=UTC:20250906T140000
DTEND;TZID=UTC:20250906T220000
DTSTAMP:20260425T120735
CREATED:20250826T223920Z
LAST-MODIFIED:20250826T223920Z
UID:27476-1757167200-1757196000@illinoispeaceproject.org
SUMMARY:Winchester Block Party
DESCRIPTION:Come celebrate community\, connection\, and light at our “Light in the Night” Block Party! Join us for a family-friendly evening filled with music\, food\, games\, dancing\, and positive vibes for all ages. Let’s turn the block into a place of joy\, unity\, and safe fun under the stars\, while promoting peace\nand preventing violence. \nNeighborhood: West Englewood\nPolice District: 7th District\nSub CBO: Think Outside Da Block\nContact: Carlos Tate\nContact Number: 312-788-0926
URL:https://illinoispeaceproject.org/event/winchester-block-party/
LOCATION:Think Outside Da Block (Winchester)\, 6859 S Winchester Ave\, Chicago\, IL\, 60636\, United States
ATTACH;FMTTYPE=image/png:https://illinoispeaceproject.org/wp-content/uploads/2025/05/todb.png
ORGANIZER;CN="Think Outside Da Block":MAILTO:info@thinkoutsidedablock.org
END:VEVENT
BEGIN:VEVENT
DTSTART;TZID=UTC:20250906T140000
DTEND;TZID=UTC:20250906T160000
DTSTAMP:20260425T120735
CREATED:20250902T132727Z
LAST-MODIFIED:20250902T132727Z
UID:27593-1757167200-1757174400@illinoispeaceproject.org
SUMMARY:Cultivating Peace: A South Side Garden Tour
DESCRIPTION:Take a trolley tour of vibrant community gardens on the South Side and learn about the Chicago Peace Flowers campaign to activate green spaces as a tool in building safe communities.
URL:https://illinoispeaceproject.org/event/cultivating-peace-a-south-side-garden-tour/
LOCATION:7840 S Racine Ave\, 7840 S Racine Ave\, Chicago\, IL\, 60620\, United States
ATTACH;FMTTYPE=image/png:https://illinoispeaceproject.org/wp-content/uploads/2025/09/Goldin-Institute-Chicago-Peace-Fellows-icon.png
ORGANIZER;CN="Chicago Peace Fellows":MAILTO:info@goldininstitute.org
END:VEVENT
BEGIN:VEVENT
DTSTART;TZID=UTC:20250906T130000
DTEND;TZID=UTC:20250906T170000
DTSTAMP:20260425T120735
CREATED:20250817T172825Z
LAST-MODIFIED:20250820T164839Z
UID:27358-1757163600-1757178000@illinoispeaceproject.org
SUMMARY:PlayStreets Block Party
DESCRIPTION:PlayStreets Block Party – ’90s vs. 2000s Theme! Join Lifescore Foundation for a free family-friendly block party on Saturday\, September 6\, 2025\, from 1–5 PM at 56th & Justine (West Englewood). Enjoy music\, games\, art\, wellness activities\, and community resources—all in a safe and joyful space for youth and families. Don’t miss this celebration of community\, culture\, and connection!
URL:https://illinoispeaceproject.org/event/playstreets-block-party/
LOCATION:56th & Justine\, 56th & Justine\, Chicago\, IL\, United States
ATTACH;FMTTYPE=image/png:https://illinoispeaceproject.org/wp-content/uploads/2025/08/lifescore-foundation.png
ORGANIZER;CN="Lifescore Foundation":MAILTO:kendra@lifescorefoundation.org
END:VEVENT
BEGIN:VEVENT
DTSTART;TZID=UTC:20250905T160000
DTEND;TZID=UTC:20250905T200000
DTSTAMP:20260425T120735
CREATED:20250826T223415Z
LAST-MODIFIED:20250826T223415Z
UID:27473-1757088000-1757102400@illinoispeaceproject.org
SUMMARY:ALSO - Game Night (Humboldt Park)
DESCRIPTION:Join us in Humboldt Park for a free game night! Community will come together to enjoy free refreshments\, games\, activities\, resources\, and more! \nNeighborhood: Humboldt Park\nPolice District: 11th District\nSub CBO: Alliance of Local Service Organizations (ALSO)\nContact: Fred Wallace\nContact Number: 773-235-5705
URL:https://illinoispeaceproject.org/event/also-game-night-humboldt-park-2/
LOCATION:Kells Park\, 3201 W Chicago Ave\, Chicago\, IL\, 60612\, United States
ATTACH;FMTTYPE=image/png:https://illinoispeaceproject.org/wp-content/uploads/2023/02/logo_retina.png
END:VEVENT
BEGIN:VEVENT
DTSTART;TZID=UTC:20250905T160000
DTEND;TZID=UTC:20250905T200000
DTSTAMP:20260425T120735
CREATED:20250826T223016Z
LAST-MODIFIED:20250826T223016Z
UID:27469-1757088000-1757102400@illinoispeaceproject.org
SUMMARY:ALSO - Game Night (Humboldt Park)
DESCRIPTION:Join us in Humboldt Park for a free game night! Community will come together to enjoy free refreshments\, activities\, games\, resources\, and more! \nNeighborhood: Humboldt Park\nPolice District: 14th District\nSub CBO: Alliance of Local Service Organizations (ALSO)\nContact: Thomas Ross\nContact Number: 773-235-5705
URL:https://illinoispeaceproject.org/event/also-game-night-humboldt-park/
LOCATION:1653 N Keystone Ave\, 1653 N Keystone Ave\, Chicago\, IL\, 60639\, United States
ATTACH;FMTTYPE=image/png:https://illinoispeaceproject.org/wp-content/uploads/2023/02/logo_retina.png
END:VEVENT
BEGIN:VEVENT
DTSTART;TZID=UTC:20250831T183000
DTEND;TZID=UTC:20250831T200000
DTSTAMP:20260425T120735
CREATED:20250820T170355Z
LAST-MODIFIED:20250820T170701Z
UID:27423-1756665000-1756670400@illinoispeaceproject.org
SUMMARY:Sound Healing
DESCRIPTION:Join us for a relaxing session of Sound Healing at 8455 S Cottage Grove Ave! Experience the soothing vibrations of sound therapy as you unwind and destress. Let the harmonious sounds wash over you\, promoting a sense of calm and well-being. This in-person event is the perfect opportunity to escape the hustle and bustle of daily life and focus on your inner peace. This isn’t just outreach. It’s a return to self. RSVP here.
URL:https://illinoispeaceproject.org/event/sound-healing-3/
LOCATION:8455 S Cottage Grove Ave\, 8455 S Cottage Grove Ave\, Chicago\, IL\, 60619\, United States
ATTACH;FMTTYPE=image/png:https://illinoispeaceproject.org/wp-content/uploads/2025/08/lifescore-foundation.png
ORGANIZER;CN="Lifescore Foundation":MAILTO:kendra@lifescorefoundation.org
END:VEVENT
BEGIN:VEVENT
DTSTART;TZID=UTC:20250829T170000
DTEND;TZID=UTC:20250829T223000
DTSTAMP:20260425T120735
CREATED:20250817T165643Z
LAST-MODIFIED:20250817T165643Z
UID:27351-1756486800-1756506600@illinoispeaceproject.org
SUMMARY:Project Play
DESCRIPTION:A public space activation with free food and activities for all ages! There will be music\, sports\, art\, loteria\, and more. \nNeighborhood: Little Village\nPolice District: 10th District\nSub CBO: Beyond the Ball\nContact: David Serrano\nContact Number: 773-943-9990
URL:https://illinoispeaceproject.org/event/project-play-2/
LOCATION:Gary/Ortiz School Campus\, 3000 S Lawndale Ave\, Chicago\, IL\, 60623\, United States
ATTACH;FMTTYPE=image/jpeg:https://illinoispeaceproject.org/wp-content/uploads/2025/08/beyond-the-ball.jpeg
ORGANIZER;CN="Beyond the Ball":MAILTO:btb@beyondtheball.org
END:VEVENT
BEGIN:VEVENT
DTSTART;TZID=UTC:20250829T170000
DTEND;TZID=UTC:20250829T190000
DTSTAMP:20260425T120735
CREATED:20250817T165433Z
LAST-MODIFIED:20250821T184016Z
UID:27349-1756486800-1756494000@illinoispeaceproject.org
SUMMARY:INVC - Light in the Night (West Garfield Park)
DESCRIPTION:We will have food\, games\, music\, fun\, and more. \nNeighborhood: West Garfield Park\nPolice District: 11th District\nSub CBO: Institute for Nonviolence Chicago\nContact: Nekenya Hardy\nContact Number: 312-270-4913
URL:https://illinoispeaceproject.org/event/invc-light-in-the-night-5/
LOCATION:Adams & Gladys\, Adams & Gladys\, Chicago\, IL\, 60624\, United States
ATTACH;FMTTYPE=image/png:https://illinoispeaceproject.org/wp-content/uploads/2023/02/Logo-Nonviolence-scaled.png
ORGANIZER;CN="Institute for Nonviolence Chicago":MAILTO:info@nonviolencechicago.org
END:VEVENT
BEGIN:VEVENT
DTSTART;TZID=UTC:20250829T170000
DTEND;TZID=UTC:20250829T190000
DTSTAMP:20260425T120735
CREATED:20250817T165208Z
LAST-MODIFIED:20250821T184004Z
UID:27345-1756486800-1756494000@illinoispeaceproject.org
SUMMARY:INVC - Light in the Night (Austin)
DESCRIPTION:We will have food\, games\, music\, face painting\, and more. \nNeighborhood: Austin\nPolice District: 15th District\nSub CBO: Institute for Nonviolence Chicago\nContact: Nekenya Hardy\nContact Number: 312-270-4913
URL:https://illinoispeaceproject.org/event/invc-light-in-the-night-4/
LOCATION:Lake & Austin\, Lake & Austin\, Chicago\, IL\, 60644\, United States
ATTACH;FMTTYPE=image/png:https://illinoispeaceproject.org/wp-content/uploads/2023/02/Logo-Nonviolence-scaled.png
ORGANIZER;CN="Institute for Nonviolence Chicago":MAILTO:info@nonviolencechicago.org
END:VEVENT
BEGIN:VEVENT
DTSTART;TZID=UTC:20250829T160000
DTEND;TZID=UTC:20250829T200000
DTSTAMP:20260425T120735
CREATED:20250817T164857Z
LAST-MODIFIED:20250821T183957Z
UID:27342-1756483200-1756497600@illinoispeaceproject.org
SUMMARY:ALSO - Game Night (Albany Park)
DESCRIPTION:Join us in Belmont Cragin for a free game night! The community will come together to enjoy free food\, games\, activities\, resources\, and more! \nNeighborhood: Albany Park\nPolice District: 17th District\nSub CBO: Alliance of Local Service Organizations (ALSO)\nContact: Luis Cotto\nContact Number: 773-235-5705
URL:https://illinoispeaceproject.org/event/also-game-night-5/
LOCATION:ALSO Office Diversey 2.0\, 5219 W Diversey Ave\, Chicago\, IL\, 60639\, United States
ATTACH;FMTTYPE=image/png:https://illinoispeaceproject.org/wp-content/uploads/2023/02/logo_retina.png
END:VEVENT
BEGIN:VEVENT
DTSTART;TZID=UTC:20250829T160000
DTEND;TZID=UTC:20250829T200000
DTSTAMP:20260425T120735
CREATED:20250817T164533Z
LAST-MODIFIED:20250821T183947Z
UID:27339-1756483200-1756497600@illinoispeaceproject.org
SUMMARY:ALSO - Game Night (Humboldt Park)
DESCRIPTION:Join us in Humboldt Park for a free community cookout! Community will come together to enjoy free refreshments\, activities\, games\, resources\, and more! \nNeighborhood: Humboldt Park\nPolice District: 14th District\nSub CBO: Alliance of Local Service Organizations (ALSO)\nContact: Fred Wallance\nContact Number: 773-235-5705
URL:https://illinoispeaceproject.org/event/also-game-night-4/
LOCATION:Harding & Division\, 3917 W Division St\, Chicago\, IL\, 60624\, United States
ATTACH;FMTTYPE=image/png:https://illinoispeaceproject.org/wp-content/uploads/2023/02/logo_retina.png
END:VEVENT
BEGIN:VEVENT
DTSTART;TZID=UTC:20250829T160000
DTEND;TZID=UTC:20250829T190000
DTSTAMP:20260425T120735
CREATED:20250817T164216Z
LAST-MODIFIED:20250817T164222Z
UID:27336-1756483200-1756494000@illinoispeaceproject.org
SUMMARY:Claretian Associates - Light in the Night
DESCRIPTION:We will have food\, music\, arts and crafts\, a resource table\, and more. \nNeighborhood: South Shore\nPolice District: 4th District\nSub CBO: Claretian Associates\nContact: James Sims\nContact Number: 773-734-9181 ext. 2060
URL:https://illinoispeaceproject.org/event/claretian-associates-light-in-the-night-2/
LOCATION:71st & Jeffery Blvd\, 71st & Jeffery Blvd\, Chicago\, IL\, 60617\, United States
ATTACH;FMTTYPE=image/png:https://illinoispeaceproject.org/wp-content/uploads/2023/10/Clariation-Associates.png
ORGANIZER;CN="Claretian Associates":MAILTO:brendat@claretianassociates.org
END:VEVENT
BEGIN:VEVENT
DTSTART;TZID=UTC:20250829T130000
DTEND;TZID=UTC:20250829T150000
DTSTAMP:20260425T120735
CREATED:20250820T201724Z
LAST-MODIFIED:20250820T201724Z
UID:27430-1756472400-1756479600@illinoispeaceproject.org
SUMMARY:Live Free Illinois Decarceration Fellowship Graduation Celebration
DESCRIPTION:Join Live Free Illinois for an unforgettable celebration as we honor and uplift the incredible leaders of our Second Cohort of Decarceration Fellows! Come celebrate their journey\, witness their impact\, and be inspired! RSVP here.
URL:https://illinoispeaceproject.org/event/live-free-illinois-decarceration-fellowship-graduation-celebration/
LOCATION:Northwestern University\, 303 E Superior St\, Chicago\, IL\, 60611\, United States
ATTACH;FMTTYPE=image/png:https://illinoispeaceproject.org/wp-content/uploads/2025/08/live-free-illinois.png
ORGANIZER;CN="Live Free Illinois":MAILTO:info@livefreeillinois.org
END:VEVENT
BEGIN:VEVENT
DTSTART;TZID=UTC:20250828T183000
DTEND;TZID=UTC:20250828T200000
DTSTAMP:20260425T120735
CREATED:20250820T170205Z
LAST-MODIFIED:20250820T170205Z
UID:27421-1756405800-1756411200@illinoispeaceproject.org
SUMMARY:Sound Healing
DESCRIPTION:Join us for a relaxing session of Sound Healing at 8455 S Cottage Grove Ave! Experience the soothing vibrations of sound therapy as you unwind and destress. Let the harmonious sounds wash over you\, promoting a sense of calm and well-being. This in-person event is the perfect opportunity to escape the hustle and bustle of daily life and focus on your inner peace. This isn’t just outreach. It’s a return to self. RSVP here.
URL:https://illinoispeaceproject.org/event/sound-healing-2/
LOCATION:8455 S Cottage Grove Ave\, 8455 S Cottage Grove Ave\, Chicago\, IL\, 60619\, United States
ATTACH;FMTTYPE=image/png:https://illinoispeaceproject.org/wp-content/uploads/2025/08/lifescore-foundation.png
ORGANIZER;CN="Lifescore Foundation":MAILTO:kendra@lifescorefoundation.org
END:VEVENT
BEGIN:VEVENT
DTSTART;TZID=UTC:20250828T170000
DTEND;TZID=UTC:20250828T190000
DTSTAMP:20260425T120735
CREATED:20250817T170006Z
LAST-MODIFIED:20250821T183827Z
UID:27353-1756400400-1756407600@illinoispeaceproject.org
SUMMARY:INVC - Light in the Night (Austin)
DESCRIPTION:We will have food\, games\, music\, face painting\, and more. \nNeighborhood: Austin\nPolice District: 15th District\nSub CBO: Institute for Nonviolence Chicago\nContact: Nekenya Hardy\nContact Number: 312-270-4913
URL:https://illinoispeaceproject.org/event/invc-light-in-the-night-6/
LOCATION:Lake & Austin\, Lake & Austin\, Chicago\, IL\, 60644\, United States
ATTACH;FMTTYPE=image/png:https://illinoispeaceproject.org/wp-content/uploads/2023/02/Logo-Nonviolence-scaled.png
ORGANIZER;CN="Institute for Nonviolence Chicago":MAILTO:info@nonviolencechicago.org
END:VEVENT
BEGIN:VEVENT
DTSTART;TZID=UTC:20250828T170000
DTEND;TZID=UTC:20250828T190000
DTSTAMP:20260425T120735
CREATED:20250817T163552Z
LAST-MODIFIED:20250821T183848Z
UID:27333-1756400400-1756407600@illinoispeaceproject.org
SUMMARY:INVC - Light in the Night (West Garfield Park)
DESCRIPTION:We will have food\, games\, music\, fun\, and more. \nNeighborhood: West Garfield Park\nPolice District: 11th District\nSub CBO: Institute for Nonviolence Chicago\nContact: Nekenya Hardy\nContact Number: 312-270-4913
URL:https://illinoispeaceproject.org/event/invc-light-in-the-night-3/
LOCATION:Adams & Gladys\, Adams & Gladys\, Chicago\, IL\, 60624\, United States
ATTACH;FMTTYPE=image/png:https://illinoispeaceproject.org/wp-content/uploads/2023/02/Logo-Nonviolence-scaled.png
ORGANIZER;CN="Institute for Nonviolence Chicago":MAILTO:info@nonviolencechicago.org
END:VEVENT
BEGIN:VEVENT
DTSTART;TZID=UTC:20250827T120000
DTEND;TZID=UTC:20250827T133000
DTSTAMP:20260425T120735
CREATED:20250820T175804Z
LAST-MODIFIED:20250820T175857Z
UID:27425-1756296000-1756301400@illinoispeaceproject.org
SUMMARY:Connecting Chicago's Peace Builders
DESCRIPTION:Learn more about Chicago’s violence prevention architecture and connect with street outreach leaders to interrupt violence with the Institute for Nonviolence Chicago.
URL:https://illinoispeaceproject.org/event/connecting-chicagos-peace-builders/
LOCATION:1856 N Leclaire Ave\, 3rd Fl\, 1856 N Leclaire Ave\, 3rd Fl\, Chicago\, IL\, 60639\, United States
ATTACH;FMTTYPE=image/png:https://illinoispeaceproject.org/wp-content/uploads/2025/08/Goldin-Institute-logo-favicon.png
ORGANIZER;CN="Goldin Institute":MAILTO:info@goldininstitute.org
END:VEVENT
BEGIN:VEVENT
DTSTART;TZID=UTC:20250826T150000
DTEND;TZID=UTC:20250826T200000
DTSTAMP:20260425T120735
CREATED:20250817T163224Z
LAST-MODIFIED:20250817T163224Z
UID:27331-1756220400-1756238400@illinoispeaceproject.org
SUMMARY:Summer Soccer
DESCRIPTION:Copa La Villita is designed to bring out community members of target ages to engage in sports every Tuesday. Food and drinks are provided at the event. \nNeighborhood: Little Village\nPolice District: 10th District\nSub CBO: New Life Centers\nContact: Epi Diaz\nContact Number: 773-412-0283
URL:https://illinoispeaceproject.org/event/summer-soccer-2/
LOCATION:Little Village Academy\, 2620 S Lawndale Ave\, Chicago\, IL\, 60623\, United States
ATTACH;FMTTYPE=image/png:https://illinoispeaceproject.org/wp-content/uploads/2025/05/NewLifeCenters-rgb-green-primary.png
ORGANIZER;CN="New Life Centers":MAILTO:info@newlifecenters.org
END:VEVENT
BEGIN:VEVENT
DTSTART;TZID=UTC:20250825T183000
DTEND;TZID=UTC:20250825T203000
DTSTAMP:20260425T120735
CREATED:20250820T165211Z
LAST-MODIFIED:20250820T165851Z
UID:27415-1756146600-1756153800@illinoispeaceproject.org
SUMMARY:Sound Healing
DESCRIPTION:Join us for a relaxing session of Sound Healing at 8455 S Cottage Grove Ave! Experience the soothing vibrations of sound therapy as you unwind and destress. Let the harmonious sounds wash over you\, promoting a sense of calm and well-being. This in-person event is the perfect opportunity to escape the hustle and bustle of daily life and focus on your inner peace. This isn’t just outreach. It’s a return to self. RSVP here.
URL:https://illinoispeaceproject.org/event/sound-healing/
LOCATION:8455 S Cottage Grove Ave\, 8455 S Cottage Grove Ave\, Chicago\, IL\, 60619\, United States
ATTACH;FMTTYPE=image/png:https://illinoispeaceproject.org/wp-content/uploads/2025/08/lifescore-foundation.png
ORGANIZER;CN="Lifescore Foundation":MAILTO:kendra@lifescorefoundation.org
END:VEVENT
BEGIN:VEVENT
DTSTART;TZID=UTC:20250822T170000
DTEND;TZID=UTC:20250822T223000
DTSTAMP:20260425T120735
CREATED:20250817T162836Z
LAST-MODIFIED:20250817T162855Z
UID:27326-1755882000-1755901800@illinoispeaceproject.org
SUMMARY:Project Play
DESCRIPTION:A public space activation with free food and activities for all ages! There will be music\, sports\, art\, loteria\, and more. \nNeighborhood: Little Village\nPolice District: 10th District\nSub CBO: Beyond the Ball\nContact: David Serrano\nContact Number: 773-943-9989
URL:https://illinoispeaceproject.org/event/project-play/
LOCATION:Gary/Ortiz School Campus\, 3000 S Lawndale Ave\, Chicago\, IL\, 60623\, United States
ATTACH;FMTTYPE=image/jpeg:https://illinoispeaceproject.org/wp-content/uploads/2025/08/beyond-the-ball.jpeg
ORGANIZER;CN="Beyond the Ball":MAILTO:btb@beyondtheball.org
END:VEVENT
BEGIN:VEVENT
DTSTART;TZID=UTC:20250822T170000
DTEND;TZID=UTC:20250822T200000
DTSTAMP:20260425T120735
CREATED:20250817T162103Z
LAST-MODIFIED:20250817T162103Z
UID:27323-1755882000-1755892800@illinoispeaceproject.org
SUMMARY:Back to School Event
DESCRIPTION:Families are invited to this fun event celebrating back to school! We will have bookbag giveaways with school supplies\, games\, music\, food\, and drinks. All items are first come\, first served. \nNeighborhood: Rogers Park\nPolice District: 24th District\nSub CBO: ONE Northside\nContact: Zerell Davis\nContact Number: 773-355-1069
URL:https://illinoispeaceproject.org/event/back-to-school-event-2/
LOCATION:Pottawattomie Park\, 7340 N Rogers Ave\, Chicago\, IL\, 60626\, United States
ATTACH;FMTTYPE=image/jpeg:https://illinoispeaceproject.org/wp-content/uploads/2023/02/ONE-Northside-logo_social_round_007.jpg
END:VEVENT
BEGIN:VEVENT
DTSTART;TZID=UTC:20250822T170000
DTEND;TZID=UTC:20250822T190000
DTSTAMP:20260425T120735
CREATED:20250817T161636Z
LAST-MODIFIED:20250821T183752Z
UID:27320-1755882000-1755889200@illinoispeaceproject.org
SUMMARY:INVC - Light in the Night (West Garfield Park)
DESCRIPTION:We will have food\, games\, music\, fun\, and more. \nNeighborhood: West Garfield Park\nPolice District: 11th District\nSub CBO: Institute for Nonviolence Chicago\nContact: Nekenya Hardy\nContact Number: 312-270-4913
URL:https://illinoispeaceproject.org/event/invc-light-in-the-night-2/
LOCATION:West Artington\, 4055 W Artington St\, Chicago\, IL\, 60624\, United States
ATTACH;FMTTYPE=image/png:https://illinoispeaceproject.org/wp-content/uploads/2023/02/Logo-Nonviolence-scaled.png
ORGANIZER;CN="Institute for Nonviolence Chicago":MAILTO:info@nonviolencechicago.org
END:VEVENT
BEGIN:VEVENT
DTSTART;TZID=UTC:20250822T170000
DTEND;TZID=UTC:20250822T190000
DTSTAMP:20260425T120735
CREATED:20250817T161200Z
LAST-MODIFIED:20250821T183746Z
UID:27318-1755882000-1755889200@illinoispeaceproject.org
SUMMARY:INVC - Light in the Night (Austin)
DESCRIPTION:We will have food\, games\, music\, face painting\, and more. \nNeighborhood: Austin\nPolice District: 15th District\nSub CBO: Institute for Nonviolence Chicago\nContact: Nekenya Hardy\nContact Number: 312-270-4913
URL:https://illinoispeaceproject.org/event/invc-light-in-the-night/
LOCATION:Madison & Centrel\, Madison & Centrel\, Chicago\, IL\, 60644\, United States
ATTACH;FMTTYPE=image/png:https://illinoispeaceproject.org/wp-content/uploads/2023/02/Logo-Nonviolence-scaled.png
ORGANIZER;CN="Institute for Nonviolence Chicago":MAILTO:info@nonviolencechicago.org
END:VEVENT
BEGIN:VEVENT
DTSTART;TZID=UTC:20250822T160000
DTEND;TZID=UTC:20250822T200000
DTSTAMP:20260425T120735
CREATED:20250817T160815Z
LAST-MODIFIED:20250817T160815Z
UID:27315-1755878400-1755892800@illinoispeaceproject.org
SUMMARY:Home Court
DESCRIPTION:Home Court is an outdoor basketball tournament that is open to girls and boys to play while also enjoying a community block party. We will have free food\, bounce houses\, face painting\, and music for family and friends to enjoy. \nNeighborhood: East Garfield Park\nPolice District: 11th District\nSub CBO: Breakthrough Urban Ministries\nContact: Danielle Peterson\nContact Number: 773-726-9659
URL:https://illinoispeaceproject.org/event/home-court/
LOCATION:Garfield Park – Gold Dome Basketball Courts\, 100 N Central Park Ave\, Chicago\, IL\, 60624\, United States
ATTACH;FMTTYPE=image/png:https://illinoispeaceproject.org/wp-content/uploads/2023/10/Breakthrough.png
ORGANIZER;CN="Breakthrough Urban Ministries":MAILTO:info@breakthrough.org
END:VEVENT
BEGIN:VEVENT
DTSTART;TZID=UTC:20250822T160000
DTEND;TZID=UTC:20250822T200000
DTSTAMP:20260425T120735
CREATED:20250817T155542Z
LAST-MODIFIED:20250821T183742Z
UID:27312-1755878400-1755892800@illinoispeaceproject.org
SUMMARY:ALSO - Game Night (Avondale)
DESCRIPTION:Join us in Avondale for a free game night! The community will come together to enjoy free food\, games\, activities\, resources\, and more! \nNeighborhood: Avondale\nPolice District: 17th District\nSub CBO: Alliance of Local Service Organizations (ALSO)\nContact: Luis Cotto\nContact Number: 773-235-5705
URL:https://illinoispeaceproject.org/event/also-game-night-3/
LOCATION:Sacramento Park\, 3520 N Sacramento Ave\, Chicago\, IL\, 60618\, United States
ATTACH;FMTTYPE=image/png:https://illinoispeaceproject.org/wp-content/uploads/2023/02/logo_retina.png
END:VEVENT
BEGIN:VEVENT
DTSTART;TZID=UTC:20250822T160000
DTEND;TZID=UTC:20250822T200000
DTSTAMP:20260425T120735
CREATED:20250817T155250Z
LAST-MODIFIED:20250821T183738Z
UID:27309-1755878400-1755892800@illinoispeaceproject.org
SUMMARY:ALSO - Game Night (Humboldt Park)
DESCRIPTION:Join us in Humboldt Park for a free game night! Community will come together to enjoy free refreshments\, activities\, games\, resources\, and more! \nNeighborhood: Humboldt Park\nPolice District: 11th District\nSub CBO: Alliance of Local Service Organizations (ALSO)\nContact: Thomas Ross\nContact Number: 773-235-5705
URL:https://illinoispeaceproject.org/event/also-game-night-2/
LOCATION:La Casa Norte\, 3533 W North Ave\, Chicago\, IL\, 60647\, United States
ATTACH;FMTTYPE=image/png:https://illinoispeaceproject.org/wp-content/uploads/2023/02/logo_retina.png
END:VEVENT
BEGIN:VEVENT
DTSTART;TZID=UTC:20250822T160000
DTEND;TZID=UTC:20250822T200000
DTSTAMP:20260425T120735
CREATED:20250817T154348Z
LAST-MODIFIED:20250821T183730Z
UID:27303-1755878400-1755892800@illinoispeaceproject.org
SUMMARY:ALSO - Game Night (Humboldt Park)
DESCRIPTION:Join us in Humboldt Park for a free community cookout! Community will come together to enjoy free refreshments\, activities\, games\, resources\, and more! \nNeighborhood: Humboldt Park\nPolice District: 14th District\nSub CBO: Alliance of Local Service Organizations (ALSO)\nContact: Fred Wallace\nContact Number: 773-235-5705
URL:https://illinoispeaceproject.org/event/also-game-night/
LOCATION:Ohio and Harding Park\, 601 N Harding Ave\, Chicago\, IL\, 60624\, United States
ATTACH;FMTTYPE=image/png:https://illinoispeaceproject.org/wp-content/uploads/2023/02/logo_retina.png
END:VEVENT
BEGIN:VEVENT
DTSTART;TZID=UTC:20250822T160000
DTEND;TZID=UTC:20250822T190000
DTSTAMP:20260425T120735
CREATED:20250817T153749Z
LAST-MODIFIED:20250817T153749Z
UID:27296-1755878400-1755889200@illinoispeaceproject.org
SUMMARY:Claretian Associates - Light in the Night
DESCRIPTION:We will have food\, music\, arts and crafts\, a resource table\, and more. \nNeighborhood: South Chicago\nPolice District: 4th District\nSub CBO: Claretian Associates\nContact: James Sims\nContact Number: 773-734-9181 ext. 2060
URL:https://illinoispeaceproject.org/event/claretian-associates-light-in-the-night/
LOCATION:Street/Corner (83rd & Commercial)\, 83rd and S Commercial Ave\, Chicago\, IL\, 60617\, United States
ATTACH;FMTTYPE=image/png:https://illinoispeaceproject.org/wp-content/uploads/2023/10/Clariation-Associates.png
ORGANIZER;CN="Claretian Associates":MAILTO:brendat@claretianassociates.org
END:VEVENT
BEGIN:VEVENT
DTSTART;TZID=UTC:20250821T173000
DTEND;TZID=UTC:20250821T210000
DTSTAMP:20260425T120735
CREATED:20250817T153332Z
LAST-MODIFIED:20250817T153332Z
UID:27293-1755797400-1755810000@illinoispeaceproject.org
SUMMARY:Summer Softball
DESCRIPTION:Little Village Summer Softball is designed to bring out community members of target ages to engage in sports and fun activities every Thursday. Food and drinks are provided at the event. \nNeighborhood: Little Village\nPolice District: 10th District\nSub CBO: New Life Centers\nContact: Epi Diaz\nContact Number: 773-412-0283
URL:https://illinoispeaceproject.org/event/summer-softball-2/
LOCATION:La Villita Park\, 2800 S Sacramento Ave\, Chicago\, IL\, 60623\, United States
ATTACH;FMTTYPE=image/png:https://illinoispeaceproject.org/wp-content/uploads/2025/05/NewLifeCenters-rgb-green-primary.png
ORGANIZER;CN="New Life Centers":MAILTO:info@newlifecenters.org
END:VEVENT
BEGIN:VEVENT
DTSTART;TZID=UTC:20250821T170000
DTEND;TZID=UTC:20250821T190000
DTSTAMP:20260425T120735
CREATED:20250817T153100Z
LAST-MODIFIED:20250821T183532Z
UID:27290-1755795600-1755802800@illinoispeaceproject.org
SUMMARY:INVC - Light in the Night (West Garfield Park)
DESCRIPTION:We will have food\, games\, music\, fun\, and more. \nNeighborhood: West Garfield Park\nPolice District: 11th District\nSub CBO: Institute for Nonviolence Chicago\nContact: Nekenya Hardy\nContact Number: 312-270-4913
URL:https://illinoispeaceproject.org/event/light-in-the-night-2/
LOCATION:West Artington\, 4055 W Artington St\, Chicago\, IL\, 60624\, United States
ATTACH;FMTTYPE=image/png:https://illinoispeaceproject.org/wp-content/uploads/2023/02/Logo-Nonviolence-scaled.png
ORGANIZER;CN="Institute for Nonviolence Chicago":MAILTO:info@nonviolencechicago.org
END:VEVENT
END:VCALENDAR