BEGIN:VCALENDAR
VERSION:2.0
PRODID:-//Illinois Peace Project - ECPv6.15.17.1//NONSGML v1.0//EN
CALSCALE:GREGORIAN
METHOD:PUBLISH
X-ORIGINAL-URL:https://illinoispeaceproject.org
X-WR-CALDESC:Events for Illinois Peace Project
REFRESH-INTERVAL;VALUE=DURATION:PT1H
X-Robots-Tag:noindex
X-PUBLISHED-TTL:PT1H
BEGIN:VTIMEZONE
TZID:UTC
BEGIN:STANDARD
TZOFFSETFROM:+0000
TZOFFSETTO:+0000
TZNAME:UTC
DTSTART:20250101T000000
END:STANDARD
END:VTIMEZONE
BEGIN:VEVENT
DTSTART;TZID=UTC:20260401T160000
DTEND;TZID=UTC:20260401T200000
DTSTAMP:20260424T141726
CREATED:20260325T154846Z
LAST-MODIFIED:20260325T154846Z
UID:28371-1775059200-1775073600@illinoispeaceproject.org
SUMMARY:Easter Giveaway Game Night
DESCRIPTION:Join us in Humboldt Park for a free Easter Giveaway Game Night! Community will come together to enjoy free refreshments\, games\, activities\, resources and more!
URL:https://illinoispeaceproject.org/event/easter-giveaway-game-night/
LOCATION:Carmen Elementary\, 1234 N Monticello Ave\, Chicago\, IL\, 60651\, United States
ATTACH;FMTTYPE=image/png:https://illinoispeaceproject.org/wp-content/uploads/2023/02/logo_retina.png
END:VEVENT
BEGIN:VEVENT
DTSTART;TZID=UTC:20260401T160000
DTEND;TZID=UTC:20260401T200000
DTSTAMP:20260424T141726
CREATED:20260325T155126Z
LAST-MODIFIED:20260325T155227Z
UID:28374-1775059200-1775073600@illinoispeaceproject.org
SUMMARY:Annual Easter Bash
DESCRIPTION:This Easter event will feature Easter baskets\, a DJ\, gaming truck\, face panting\, food\, fun\, and more!
URL:https://illinoispeaceproject.org/event/annual-easter-bash/
LOCATION:Project H.O.O.D.\, 6620 S. King Dr\, Chicago\, IL\, 60637\, United States
ATTACH;FMTTYPE=image/png:https://illinoispeaceproject.org/wp-content/uploads/2023/02/logo-project-hood_black.png
END:VEVENT
BEGIN:VEVENT
DTSTART;TZID=UTC:20260401T180000
DTEND;TZID=UTC:20260401T193000
DTSTAMP:20260424T141726
CREATED:20260326T131617Z
LAST-MODIFIED:20260326T131617Z
UID:28421-1775066400-1775071800@illinoispeaceproject.org
SUMMARY:North Lawndale Community Meeting
DESCRIPTION:Join Chicago CRED to address safety\, violence\, and what can be done to bring about change\, together with members of the North Lawndale Collaborative. Your input is vital as we strive for a safer North Lawndale neighborhood. Share your thoughts\, ideas\, and feedback at this important meeting. Together\, we can make a difference and create a secure community for all.
URL:https://illinoispeaceproject.org/event/north-lawndale-community-meeting/
LOCATION:UCAN\, 3605 W Fillmore St\, Chicago\, IL\, 60624\, United States
ATTACH;FMTTYPE=image/png:https://illinoispeaceproject.org/wp-content/uploads/2025/08/chicago-cred-logo.png
ORGANIZER;CN="Chicago CRED":MAILTO:jamel@chicagocred.com
END:VEVENT
END:VCALENDAR