BEGIN:VCALENDAR
VERSION:2.0
PRODID:-//Illinois Peace Project - ECPv6.15.17.1//NONSGML v1.0//EN
CALSCALE:GREGORIAN
METHOD:PUBLISH
X-WR-CALNAME:Illinois Peace Project
X-ORIGINAL-URL:https://illinoispeaceproject.org
X-WR-CALDESC:Events for Illinois Peace Project
REFRESH-INTERVAL;VALUE=DURATION:PT1H
X-Robots-Tag:noindex
X-PUBLISHED-TTL:PT1H
BEGIN:VTIMEZONE
TZID:UTC
BEGIN:STANDARD
TZOFFSETFROM:+0000
TZOFFSETTO:+0000
TZNAME:UTC
DTSTART:20250101T000000
END:STANDARD
END:VTIMEZONE
BEGIN:VEVENT
DTSTART;TZID=UTC:20260326T160000
DTEND;TZID=UTC:20260326T180000
DTSTAMP:20260424T154046
CREATED:20260325T152954Z
LAST-MODIFIED:20260325T152954Z
UID:28355-1774540800-1774548000@illinoispeaceproject.org
SUMMARY:WGF Light in the Night Event
DESCRIPTION:Food\, games\, music\, fun\, and more!
URL:https://illinoispeaceproject.org/event/wgf-light-in-the-night-event/
LOCATION:219 N Kolmar Ave\, 219 N Kolmar Ave\, Chicago\, IL\, 60624\, United States
ATTACH;FMTTYPE=image/png:https://illinoispeaceproject.org/wp-content/uploads/2023/02/Logo-Nonviolence-scaled.png
ORGANIZER;CN="Institute for Nonviolence Chicago":MAILTO:info@nonviolencechicago.org
END:VEVENT
BEGIN:VEVENT
DTSTART;TZID=UTC:20260326T160000
DTEND;TZID=UTC:20260326T180000
DTSTAMP:20260424T154046
CREATED:20260325T153335Z
LAST-MODIFIED:20260325T153434Z
UID:28358-1774540800-1774548000@illinoispeaceproject.org
SUMMARY:INVC Light in the Night
DESCRIPTION:Food\, games\, music\, face painting\, and more.
URL:https://illinoispeaceproject.org/event/invc-light-in-the-night-7/
LOCATION:Madison & Lotus\, S Lotus Ave & W Madison St\, Chicago\, IL\, 60644\, United States
ATTACH;FMTTYPE=image/png:https://illinoispeaceproject.org/wp-content/uploads/2023/02/Logo-Nonviolence-scaled.png
ORGANIZER;CN="Institute for Nonviolence Chicago":MAILTO:info@nonviolencechicago.org
END:VEVENT
END:VCALENDAR