BEGIN:VCALENDAR
VERSION:2.0
PRODID:-//Illinois Peace Project - ECPv6.15.17.1//NONSGML v1.0//EN
CALSCALE:GREGORIAN
METHOD:PUBLISH
X-WR-CALNAME:Illinois Peace Project
X-ORIGINAL-URL:https://illinoispeaceproject.org
X-WR-CALDESC:Events for Illinois Peace Project
REFRESH-INTERVAL;VALUE=DURATION:PT1H
X-Robots-Tag:noindex
X-PUBLISHED-TTL:PT1H
BEGIN:VTIMEZONE
TZID:UTC
BEGIN:STANDARD
TZOFFSETFROM:+0000
TZOFFSETTO:+0000
TZNAME:UTC
DTSTART:20240101T000000
END:STANDARD
END:VTIMEZONE
BEGIN:VEVENT
DTSTART;TZID=UTC:20250927T160000
DTEND;TZID=UTC:20250927T200000
DTSTAMP:20260424T235953
CREATED:20250826T230154Z
LAST-MODIFIED:20250826T230451Z
UID:27503-1758988800-1759003200@illinoispeaceproject.org
SUMMARY:ALSO - Game Night (Belmont Cragin)
DESCRIPTION:Join us in Belmont Cragin for a free game night! The community will come together to enjoy free food\, games\, activities\, resources\, and more! \nNeighborhood: Albany Park\nPolice District: 17th District Beat 1724\nSub CBO: Alliance of Local Service Organizations (ALSO)\nContact: Luis Cotto\nContact Number: 773-235-5705
URL:https://illinoispeaceproject.org/event/also-game-night-belmont-cragin/
LOCATION:ALSO Office Diversey 2.0\, 5219 W Diversey Ave\, Chicago\, IL\, 60639\, United States
ATTACH;FMTTYPE=image/png:https://illinoispeaceproject.org/wp-content/uploads/2023/02/logo_retina.png
END:VEVENT
END:VCALENDAR