BEGIN:VCALENDAR
VERSION:2.0
PRODID:-//Illinois Peace Project - ECPv6.15.17.1//NONSGML v1.0//EN
CALSCALE:GREGORIAN
METHOD:PUBLISH
X-ORIGINAL-URL:https://illinoispeaceproject.org
X-WR-CALDESC:Events for Illinois Peace Project
REFRESH-INTERVAL;VALUE=DURATION:PT1H
X-Robots-Tag:noindex
X-PUBLISHED-TTL:PT1H
BEGIN:VTIMEZONE
TZID:UTC
BEGIN:STANDARD
TZOFFSETFROM:+0000
TZOFFSETTO:+0000
TZNAME:UTC
DTSTART:20240101T000000
END:STANDARD
END:VTIMEZONE
BEGIN:VEVENT
DTSTART;TZID=UTC:20250925T120000
DTEND;TZID=UTC:20250925T133000
DTSTAMP:20260425T000047
CREATED:20250902T134336Z
LAST-MODIFIED:20250902T134435Z
UID:27608-1758801600-1758807000@illinoispeaceproject.org
SUMMARY:Connecting Chicago’s Peace Builders
DESCRIPTION:Learn more about Chicago’s violence prevention architecture and connecting with street outreach leaders to interrupt violence with the Institute for Nonviolence Chicago.
URL:https://illinoispeaceproject.org/event/connecting-chicagos-peace-builders-2/
LOCATION:1856 N Leclaire Ave 3rd Fl\, 1856 N Leclaire Ave 3rd Fl\, Chicago\, IL\, 60639\, United States
ATTACH;FMTTYPE=image/png:https://illinoispeaceproject.org/wp-content/uploads/2025/09/Goldin-Institute-Chicago-Peace-Fellows-icon.png
ORGANIZER;CN="Chicago Peace Fellows":MAILTO:info@goldininstitute.org
END:VEVENT
END:VCALENDAR