BEGIN:VCALENDAR
VERSION:2.0
PRODID:-//Illinois Peace Project - ECPv6.15.17.1//NONSGML v1.0//EN
CALSCALE:GREGORIAN
METHOD:PUBLISH
X-WR-CALNAME:Illinois Peace Project
X-ORIGINAL-URL:https://illinoispeaceproject.org
X-WR-CALDESC:Events for Illinois Peace Project
REFRESH-INTERVAL;VALUE=DURATION:PT1H
X-Robots-Tag:noindex
X-PUBLISHED-TTL:PT1H
BEGIN:VTIMEZONE
TZID:UTC
BEGIN:STANDARD
TZOFFSETFROM:+0000
TZOFFSETTO:+0000
TZNAME:UTC
DTSTART:20240101T000000
END:STANDARD
END:VTIMEZONE
BEGIN:VEVENT
DTSTART;TZID=UTC:20250919T120000
DTEND;TZID=UTC:20250919T133000
DTSTAMP:20260424T235926
CREATED:20250902T134124Z
LAST-MODIFIED:20250902T134124Z
UID:27604-1758283200-1758288600@illinoispeaceproject.org
SUMMARY:Making More Forgiving Spaces
DESCRIPTION:The University of Chicago’s Crime and Education Labs will offer interactive sessions on the latest research on violence prevention\, including a conversation on new insights from behavioral economics at this lunch and learn workshop.
URL:https://illinoispeaceproject.org/event/making-more-forgiving-spaces/
LOCATION:3509 S King Dr #2B\, 3509 S King Dr #2B\, Chicago\, IL\, 60653\, United States
ATTACH;FMTTYPE=image/png:https://illinoispeaceproject.org/wp-content/uploads/2025/09/Goldin-Institute-Chicago-Peace-Fellows-icon.png
ORGANIZER;CN="Chicago Peace Fellows":MAILTO:info@goldininstitute.org
END:VEVENT
BEGIN:VEVENT
DTSTART;TZID=UTC:20250919T160000
DTEND;TZID=UTC:20250919T200000
DTSTAMP:20260424T235926
CREATED:20250826T224957Z
LAST-MODIFIED:20250826T224957Z
UID:27489-1758297600-1758312000@illinoispeaceproject.org
SUMMARY:ALSO - Game Night (Humboldt Park)
DESCRIPTION:Join us in Humboldt Park for a free game night. Community will come together to enjoy free refreshments\, games\, activities\, resources\, and more! \nNeighborhood: Humboldt Park\nPolice District: 14th District\nSub CBO: Alliance of Local Service Organizations (ALSO)\nContact: Fred Wallace\nContact Number: 773-235-5705
URL:https://illinoispeaceproject.org/event/also-game-night-humboldt-park-4/
LOCATION:Lawndale & Chicago Ave\, 3652 W Chicago Ave\, Chicago\, IL\, 60651\, United States
ATTACH;FMTTYPE=image/png:https://illinoispeaceproject.org/wp-content/uploads/2023/02/logo_retina.png
END:VEVENT
BEGIN:VEVENT
DTSTART;TZID=UTC:20250919T160000
DTEND;TZID=UTC:20250919T200000
DTSTAMP:20260424T235926
CREATED:20250826T225343Z
LAST-MODIFIED:20250826T225343Z
UID:27493-1758297600-1758312000@illinoispeaceproject.org
SUMMARY:ALSO - Game Night (Humboldt Park)
DESCRIPTION:Join us in Humboldt Park for a free game night! Community will come together to enjoy free refreshments\, activities\, games\, resources\, and more! \nNeighborhood: Humboldt Park\nPolice District: 11th District\nSub CBO: Alliance of Local Service Organizations (ALSO)\nContact: Thomas Ross\nContact Number: 773-235-5705
URL:https://illinoispeaceproject.org/event/also-game-night-humboldt-park-5/
LOCATION:Richmond & North Ave\, 1600 N Richmond St\, Chicago\, IL\, 60632\, United States
ATTACH;FMTTYPE=image/png:https://illinoispeaceproject.org/wp-content/uploads/2023/02/logo_retina.png
END:VEVENT
BEGIN:VEVENT
DTSTART;TZID=UTC:20250919T160000
DTEND;TZID=UTC:20250919T200000
DTSTAMP:20260424T235926
CREATED:20250826T225537Z
LAST-MODIFIED:20250826T225537Z
UID:27496-1758297600-1758312000@illinoispeaceproject.org
SUMMARY:ALSO - Game Night (Avondale)
DESCRIPTION:Join us in Avondale for a free game night! The community will come together to enjoy free food\, games\, activities\, resources\, and more! \nNeighborhood: Avondale\nPolice District: 17th District\nSub CBO: Alliance of Local Service Organizations (ALSO)\nContact: Luis Cotto\nContact Number: 773-235-5705
URL:https://illinoispeaceproject.org/event/also-game-night-avondale/
LOCATION:Sacramento Park\, 3520 N Sacramento Ave\, Chicago\, IL\, 60618\, United States
ATTACH;FMTTYPE=image/png:https://illinoispeaceproject.org/wp-content/uploads/2023/02/logo_retina.png
END:VEVENT
END:VCALENDAR