BEGIN:VCALENDAR
VERSION:2.0
PRODID:-//Illinois Peace Project - ECPv6.15.17.1//NONSGML v1.0//EN
CALSCALE:GREGORIAN
METHOD:PUBLISH
X-WR-CALNAME:Illinois Peace Project
X-ORIGINAL-URL:https://illinoispeaceproject.org
X-WR-CALDESC:Events for Illinois Peace Project
REFRESH-INTERVAL;VALUE=DURATION:PT1H
X-Robots-Tag:noindex
X-PUBLISHED-TTL:PT1H
BEGIN:VTIMEZONE
TZID:UTC
BEGIN:STANDARD
TZOFFSETFROM:+0000
TZOFFSETTO:+0000
TZNAME:UTC
DTSTART:20240101T000000
END:STANDARD
END:VTIMEZONE
BEGIN:VEVENT
DTSTART;TZID=UTC:20250913T160000
DTEND;TZID=UTC:20250913T200000
DTSTAMP:20260424T235953
CREATED:20250826T224753Z
LAST-MODIFIED:20250826T224753Z
UID:27486-1757779200-1757793600@illinoispeaceproject.org
SUMMARY:ALSO - Game Night (Humboldt Park)
DESCRIPTION:Join us in Humboldt Park for a free game night! Community will come together to enjoy free refreshments\, games\, activities\, resources\, and more! \nNeighborhood: Humboldt Park\nPolice District: 11th District\nSub CBO: Alliance of Local Service Organizations (ALSO)\nContact: Fred Wallace\nContact Number: 773-235-5705
URL:https://illinoispeaceproject.org/event/also-game-night-humboldt-park-3/
LOCATION:Thomas & Avers\, 3847 W Thomas St\, Chicago\, IL\, 60651\, United States
ATTACH;FMTTYPE=image/png:https://illinoispeaceproject.org/wp-content/uploads/2023/02/logo_retina.png
END:VEVENT
END:VCALENDAR