BEGIN:VCALENDAR
VERSION:2.0
PRODID:-//Illinois Peace Project - ECPv6.15.17.1//NONSGML v1.0//EN
CALSCALE:GREGORIAN
METHOD:PUBLISH
X-WR-CALNAME:Illinois Peace Project
X-ORIGINAL-URL:https://illinoispeaceproject.org
X-WR-CALDESC:Events for Illinois Peace Project
REFRESH-INTERVAL;VALUE=DURATION:PT1H
X-Robots-Tag:noindex
X-PUBLISHED-TTL:PT1H
BEGIN:VTIMEZONE
TZID:UTC
BEGIN:STANDARD
TZOFFSETFROM:+0000
TZOFFSETTO:+0000
TZNAME:UTC
DTSTART:20240101T000000
END:STANDARD
END:VTIMEZONE
BEGIN:VEVENT
DTSTART;TZID=UTC:20250912T150000
DTEND;TZID=UTC:20250912T180000
DTSTAMP:20260424T235953
CREATED:20250902T140127Z
LAST-MODIFIED:20250902T140127Z
UID:27617-1757689200-1757700000@illinoispeaceproject.org
SUMMARY:September Fest
DESCRIPTION:Join Precious Blood Ministry of Reconciliation for its ’70s themed September Fest\, featuring BBQ\, games\, and lots of fun!
URL:https://illinoispeaceproject.org/event/september-fest/
LOCATION:5114 S Elizabeth St\, 5114 S Elizabeth St\, Chicago\, IL\, 60609\, United States
ATTACH;FMTTYPE=image/png:https://illinoispeaceproject.org/wp-content/uploads/2023/02/PBMR-logo-block-web-480w.png
ORGANIZER;CN="Precious Blood Ministry of Reconciliation":MAILTO:info@pbmr.org
END:VEVENT
BEGIN:VEVENT
DTSTART;TZID=UTC:20250912T160000
DTEND;TZID=UTC:20250912T190000
DTSTAMP:20260424T235953
CREATED:20250817T154905Z
LAST-MODIFIED:20250817T154905Z
UID:27306-1757692800-1757703600@illinoispeaceproject.org
SUMMARY:Ice Cream Social
DESCRIPTION:Meet Peacekeepers from the Institute for Nonviolence Chicago\, learn how Community Violence Intervention (CVI) is creating a safer city for us all\, and enjoy some ice cream on us!
URL:https://illinoispeaceproject.org/event/ice-cream-social/
LOCATION:Austin Gardens\, 167 Forest Ave\, Oak Park\, IL\, 60302\, United States
ATTACH;FMTTYPE=image/png:https://illinoispeaceproject.org/wp-content/uploads/2023/02/Logo-Nonviolence-scaled.png
ORGANIZER;CN="Institute for Nonviolence Chicago":MAILTO:info@nonviolencechicago.org
END:VEVENT
BEGIN:VEVENT
DTSTART;TZID=UTC:20250912T160000
DTEND;TZID=UTC:20250912T200000
DTSTAMP:20260424T235953
CREATED:20250826T224547Z
LAST-MODIFIED:20250826T224547Z
UID:27483-1757692800-1757707200@illinoispeaceproject.org
SUMMARY:ALSO - Game Night (Albany Park)
DESCRIPTION:Join us in Albany Park for a free game night! The community will come together to enjoy free food\, games\, activities\, resources\, and more! \nNeighborhood: Albany Park\nPolice District: 17th District\nSub CBO: Alliance of Local Service Organizations (ALSO)\nContact: Luis Cotto\nContact Number: 773-235-5705
URL:https://illinoispeaceproject.org/event/also-game-night-albany-park/
LOCATION:Irving Park & Albany Ave\, 3101 W Irving Park Ave\, Chicago\, IL\, 60618\, United States
ATTACH;FMTTYPE=image/png:https://illinoispeaceproject.org/wp-content/uploads/2023/02/logo_retina.png
END:VEVENT
END:VCALENDAR