BEGIN:VCALENDAR
VERSION:2.0
PRODID:-//Illinois Peace Project - ECPv6.15.17.1//NONSGML v1.0//EN
CALSCALE:GREGORIAN
METHOD:PUBLISH
X-ORIGINAL-URL:https://illinoispeaceproject.org
X-WR-CALDESC:Events for Illinois Peace Project
REFRESH-INTERVAL;VALUE=DURATION:PT1H
X-Robots-Tag:noindex
X-PUBLISHED-TTL:PT1H
BEGIN:VTIMEZONE
TZID:UTC
BEGIN:STANDARD
TZOFFSETFROM:+0000
TZOFFSETTO:+0000
TZNAME:UTC
DTSTART:20240101T000000
END:STANDARD
END:VTIMEZONE
BEGIN:VEVENT
DTSTART;TZID=UTC:20250910T100000
DTEND;TZID=UTC:20250910T120000
DTSTAMP:20260425T000048
CREATED:20250902T135751Z
LAST-MODIFIED:20250902T135751Z
UID:27614-1757498400-1757505600@illinoispeaceproject.org
SUMMARY:Cafe on May: A Community Cafe
DESCRIPTION:Join Precious Blood Ministry of Reconciliation for free coffee\, backed goods\, activities\, and good conversation.
URL:https://illinoispeaceproject.org/event/cafe-on-may-a-community-cafe/
LOCATION:PBMR Front Porch\, 1130 W 51st St\, Chicago\, IL\, 60609\, United States
ATTACH;FMTTYPE=image/png:https://illinoispeaceproject.org/wp-content/uploads/2023/02/PBMR-logo-block-web-480w.png
ORGANIZER;CN="Precious Blood Ministry of Reconciliation":MAILTO:info@pbmr.org
END:VEVENT
END:VCALENDAR