BEGIN:VCALENDAR
VERSION:2.0
PRODID:-//Illinois Peace Project - ECPv6.15.17.1//NONSGML v1.0//EN
CALSCALE:GREGORIAN
METHOD:PUBLISH
X-WR-CALNAME:Illinois Peace Project
X-ORIGINAL-URL:https://illinoispeaceproject.org
X-WR-CALDESC:Events for Illinois Peace Project
REFRESH-INTERVAL;VALUE=DURATION:PT1H
X-Robots-Tag:noindex
X-PUBLISHED-TTL:PT1H
BEGIN:VTIMEZONE
TZID:UTC
BEGIN:STANDARD
TZOFFSETFROM:+0000
TZOFFSETTO:+0000
TZNAME:UTC
DTSTART:20240101T000000
END:STANDARD
END:VTIMEZONE
BEGIN:VEVENT
DTSTART;TZID=UTC:20250831T183000
DTEND;TZID=UTC:20250831T200000
DTSTAMP:20260425T011836
CREATED:20250820T170355Z
LAST-MODIFIED:20250820T170701Z
UID:27423-1756665000-1756670400@illinoispeaceproject.org
SUMMARY:Sound Healing
DESCRIPTION:Join us for a relaxing session of Sound Healing at 8455 S Cottage Grove Ave! Experience the soothing vibrations of sound therapy as you unwind and destress. Let the harmonious sounds wash over you\, promoting a sense of calm and well-being. This in-person event is the perfect opportunity to escape the hustle and bustle of daily life and focus on your inner peace. This isn’t just outreach. It’s a return to self. RSVP here.
URL:https://illinoispeaceproject.org/event/sound-healing-3/
LOCATION:8455 S Cottage Grove Ave\, 8455 S Cottage Grove Ave\, Chicago\, IL\, 60619\, United States
ATTACH;FMTTYPE=image/png:https://illinoispeaceproject.org/wp-content/uploads/2025/08/lifescore-foundation.png
ORGANIZER;CN="Lifescore Foundation":MAILTO:kendra@lifescorefoundation.org
END:VEVENT
END:VCALENDAR